BEGIN:VCALENDAR
VERSION:2.0
PRODID:-//pretix//Tickets::Fridays_For_Future_Germany//
BEGIN:VTIMEZONE
TZID:Europe/Berlin
BEGIN:STANDARD
DTSTART:20001029T040000
RRULE:FREQ=YEARLY;BYDAY=-1SU;BYMONTH=10
TZNAME:CET
TZOFFSETFROM:+0200
TZOFFSETTO:+0100
END:STANDARD
BEGIN:DAYLIGHT
DTSTART:20000326T030000
RRULE:FREQ=YEARLY;BYDAY=-1SU;BYMONTH=3
TZNAME:CEST
TZOFFSETFROM:+0100
TZOFFSETTO:+0200
END:DAYLIGHT
END:VTIMEZONE
BEGIN:VEVENT
UID:pretix-berlin-welzow-anreise-0@tickets.fridaysforfuture.de
DTSTART;TZID=Europe/Berlin:20230625T074500
DTEND;TZID=Europe/Berlin:20230625T210000
DESCRIPTION:Tickets: https://tickets.fridaysforfuture.de/berlin/welzow-anre
 ise/\nVeranstalter: FridaysForFuture Berlin
DTSTAMP:20260425T144706Z
LOCATION:Oranienplatz\, 10999 Berlin
SUMMARY:Busanreise nach Welzow
END:VEVENT
END:VCALENDAR
